BEGIN:VCALENDAR
VERSION:2.0
PRODID:-//Northeast TN DSA - ECPv6.15.12.2//NONSGML v1.0//EN
CALSCALE:GREGORIAN
METHOD:PUBLISH
X-WR-CALNAME:Northeast TN DSA
X-ORIGINAL-URL:https://northeasttndsa.org
X-WR-CALDESC:Events for Northeast TN DSA
REFRESH-INTERVAL;VALUE=DURATION:PT1H
X-Robots-Tag:noindex
X-PUBLISHED-TTL:PT1H
BEGIN:VTIMEZONE
TZID:America/New_York
BEGIN:DAYLIGHT
TZOFFSETFROM:-0500
TZOFFSETTO:-0400
TZNAME:EDT
DTSTART:20240310T070000
END:DAYLIGHT
BEGIN:STANDARD
TZOFFSETFROM:-0400
TZOFFSETTO:-0500
TZNAME:EST
DTSTART:20241103T060000
END:STANDARD
BEGIN:DAYLIGHT
TZOFFSETFROM:-0500
TZOFFSETTO:-0400
TZNAME:EDT
DTSTART:20250309T070000
END:DAYLIGHT
BEGIN:STANDARD
TZOFFSETFROM:-0400
TZOFFSETTO:-0500
TZNAME:EST
DTSTART:20251102T060000
END:STANDARD
BEGIN:DAYLIGHT
TZOFFSETFROM:-0500
TZOFFSETTO:-0400
TZNAME:EDT
DTSTART:20260308T070000
END:DAYLIGHT
BEGIN:STANDARD
TZOFFSETFROM:-0400
TZOFFSETTO:-0500
TZNAME:EST
DTSTART:20261101T060000
END:STANDARD
END:VTIMEZONE
BEGIN:VEVENT
DTSTART;TZID=America/New_York:20251104T183000
DTEND;TZID=America/New_York:20251104T203000
DTSTAMP:20260423T120334
CREATED:20251028T120541Z
LAST-MODIFIED:20251028T120643Z
UID:5565-1762281000-1762288200@northeasttndsa.org
SUMMARY:(Didn't Do the) Reading Group in Kingsport
DESCRIPTION:You don’t need to read ahead of time for this meeting because we do the reading at the meeting! \nThis time we are finishing the last short section of “All in the Family Debt: How neoliberals and conservatives came together to undo the welfare state” by Melinda Cooper\, then we’re starting a new\, yet to be determined\, reading.
URL:https://northeasttndsa.org/event/didnt-do-the-reading-group-3/
LOCATION:St. Paul’s Episcopal Church\, 161 E Ravine St.\, Kingsport\, TN\, United States
CATEGORIES:Political Education
ORGANIZER;CN="Northeast TN DSA":MAILTO:northeasttndsa@gmail.com
END:VEVENT
END:VCALENDAR