BEGIN:VCALENDAR
VERSION:2.0
PRODID:-//Northeast TN DSA - ECPv6.15.12.2//NONSGML v1.0//EN
CALSCALE:GREGORIAN
METHOD:PUBLISH
X-WR-CALNAME:Northeast TN DSA
X-ORIGINAL-URL:https://northeasttndsa.org
X-WR-CALDESC:Events for Northeast TN DSA
REFRESH-INTERVAL;VALUE=DURATION:PT1H
X-Robots-Tag:noindex
X-PUBLISHED-TTL:PT1H
BEGIN:VTIMEZONE
TZID:America/New_York
BEGIN:DAYLIGHT
TZOFFSETFROM:-0500
TZOFFSETTO:-0400
TZNAME:EDT
DTSTART:20250309T070000
END:DAYLIGHT
BEGIN:STANDARD
TZOFFSETFROM:-0400
TZOFFSETTO:-0500
TZNAME:EST
DTSTART:20251102T060000
END:STANDARD
BEGIN:DAYLIGHT
TZOFFSETFROM:-0500
TZOFFSETTO:-0400
TZNAME:EDT
DTSTART:20260308T070000
END:DAYLIGHT
BEGIN:STANDARD
TZOFFSETFROM:-0400
TZOFFSETTO:-0500
TZNAME:EST
DTSTART:20261101T060000
END:STANDARD
BEGIN:DAYLIGHT
TZOFFSETFROM:-0500
TZOFFSETTO:-0400
TZNAME:EDT
DTSTART:20270314T070000
END:DAYLIGHT
BEGIN:STANDARD
TZOFFSETFROM:-0400
TZOFFSETTO:-0500
TZNAME:EST
DTSTART:20271107T060000
END:STANDARD
END:VTIMEZONE
BEGIN:VEVENT
DTSTART;TZID=America/New_York:20260303T183000
DTEND;TZID=America/New_York:20260303T203000
DTSTAMP:20260422T223718
CREATED:20260221T161428Z
LAST-MODIFIED:20260221T161621Z
UID:5590-1772562600-1772569800@northeasttndsa.org
SUMMARY:Didn’t Do the Reading Group: “Let This Radicalize You”
DESCRIPTION:What fuels and sustains activism and organizing when it feels like our worlds are collapsing? The book that our (Didn’t Do the) Reading Group is reading–LET THIS RADICALIZE YOU–is a practical and imaginative resource for activists and organizers building power in an era of destabilization and catastrophe.\nJoin us March 3rd at St. Paul’s Episcopal Church in Kingsport from 6:30 to 8:30 pm to read and discuss. \nEach chapter stands on its own\, so don’t worry if you missed earlier Didn’t Do the Reading Group meetings! You can drop in at any time. \nYou can purchase a copy of Kelly Hayes & Miriame Kaba’s book in paperback\, hardback\, or ebook direct from the publisher\, Haymarket Books. We’ll also have a few extra copies at the meeting for folks to read along with if they don’t have a copy of their own. \nSee you there!
URL:https://northeasttndsa.org/event/didnt-do-the-reading-group-let-this-radicalize-you-2/
LOCATION:St. Paul’s Episcopal Church\, 161 E Ravine St.\, Kingsport\, TN\, United States
CATEGORIES:Political Education
ORGANIZER;CN="Northeast TN DSA":MAILTO:northeasttndsa@gmail.com
END:VEVENT
END:VCALENDAR