BEGIN:VCALENDAR
VERSION:2.0
PRODID:-//Northeast TN DSA - ECPv6.15.12.2//NONSGML v1.0//EN
CALSCALE:GREGORIAN
METHOD:PUBLISH
X-WR-CALNAME:Northeast TN DSA
X-ORIGINAL-URL:https://northeasttndsa.org
X-WR-CALDESC:Events for Northeast TN DSA
REFRESH-INTERVAL;VALUE=DURATION:PT1H
X-Robots-Tag:noindex
X-PUBLISHED-TTL:PT1H
BEGIN:VTIMEZONE
TZID:America/New_York
BEGIN:DAYLIGHT
TZOFFSETFROM:-0500
TZOFFSETTO:-0400
TZNAME:EDT
DTSTART:20240310T070000
END:DAYLIGHT
BEGIN:STANDARD
TZOFFSETFROM:-0400
TZOFFSETTO:-0500
TZNAME:EST
DTSTART:20241103T060000
END:STANDARD
BEGIN:DAYLIGHT
TZOFFSETFROM:-0500
TZOFFSETTO:-0400
TZNAME:EDT
DTSTART:20250309T070000
END:DAYLIGHT
BEGIN:STANDARD
TZOFFSETFROM:-0400
TZOFFSETTO:-0500
TZNAME:EST
DTSTART:20251102T060000
END:STANDARD
BEGIN:DAYLIGHT
TZOFFSETFROM:-0500
TZOFFSETTO:-0400
TZNAME:EDT
DTSTART:20260308T070000
END:DAYLIGHT
BEGIN:STANDARD
TZOFFSETFROM:-0400
TZOFFSETTO:-0500
TZNAME:EST
DTSTART:20261101T060000
END:STANDARD
END:VTIMEZONE
BEGIN:VEVENT
DTSTART;TZID=America/New_York:20251007T183000
DTEND;TZID=America/New_York:20251007T203000
DTSTAMP:20260423T192309
CREATED:20250928T152907Z
LAST-MODIFIED:20250928T152907Z
UID:5557-1759861800-1759869000@northeasttndsa.org
SUMMARY:(Didn't Do the) Reading Group
DESCRIPTION:This month we’re finishing “Blueprint for a New Party” by Seth Ackerman \n“With the rise of Donald Trump\, we need to think seriously about what it would take to form a democratic organization rooted in the working class.” \nYou don’t need to read ahead of time–we do the reading at the meeting! If you want to check out the reading ahead of time\, though\, it’s here: https://jacobin.com/2016/11/bernie-sanders-democratic-labor-party-ackerman
URL:https://northeasttndsa.org/event/didnt-do-the-reading-group-2/
LOCATION:St. Paul’s Episcopal Church\, 161 E Ravine St.\, Kingsport\, TN\, United States
CATEGORIES:Political Education
ORGANIZER;CN="Northeast TN DSA":MAILTO:northeasttndsa@gmail.com
END:VEVENT
END:VCALENDAR